Package: biocthis Version: 1.9.3 Command: /home/biocbuild/bbs-3.17-bioc/R/bin/R CMD INSTALL biocthis StartedAt: 2023-04-12 01:42:20 -0400 (Wed, 12 Apr 2023) EndedAt: 2023-04-12 01:42:24 -0400 (Wed, 12 Apr 2023) EllapsedTime: 4.6 seconds RetCode: 0 Status: OK