Package: biocthis Version: 1.9.3 Command: /home/biocbuild/bbs-3.17-bioc/R/bin/R CMD build --keep-empty-dirs --no-resave-data biocthis StartedAt: 2023-04-12 02:18:17 -0400 (Wed, 12 Apr 2023) EndedAt: 2023-04-12 02:18:28 -0400 (Wed, 12 Apr 2023) EllapsedTime: 11.1 seconds RetCode: 0 Status: OK PackageFile: biocthis_1.9.3.tar.gz PackageFileSize: 628.3 KiB