Package: bgx Version: 1.65.1 Command: /home/biocbuild/bbs-3.17-bioc/R/bin/R CMD build --keep-empty-dirs --no-resave-data bgx StartedAt: 2023-04-11 15:53:00 -0400 (Tue, 11 Apr 2023) EndedAt: 2023-04-11 15:53:50 -0400 (Tue, 11 Apr 2023) EllapsedTime: 50.2 seconds RetCode: 0 Status: OK PackageFile: bgx_1.65.1.tar.gz PackageFileSize: 1.176 MiB