Package: beachmat Version: 2.15.2 Command: /home/biocbuild/bbs-3.17-bioc/R/bin/R CMD INSTALL beachmat StartedAt: 2023-04-12 01:35:51 -0400 (Wed, 12 Apr 2023) EndedAt: 2023-04-12 01:36:14 -0400 (Wed, 12 Apr 2023) EllapsedTime: 23.3 seconds RetCode: 0 Status: OK