Package: ballgown Version: 2.31.0 Command: /home/biocbuild/bbs-3.17-bioc/R/bin/R CMD INSTALL ballgown StartedAt: 2023-04-11 15:30:32 -0400 (Tue, 11 Apr 2023) EndedAt: 2023-04-11 15:31:09 -0400 (Tue, 11 Apr 2023) EllapsedTime: 36.7 seconds RetCode: 0 Status: OK