Package: ballgown Version: 2.31.0 Command: /home/biocbuild/bbs-3.17-bioc/R/bin/R CMD build --keep-empty-dirs --no-resave-data ballgown StartedAt: 2023-04-11 15:50:33 -0400 (Tue, 11 Apr 2023) EndedAt: 2023-04-11 15:51:25 -0400 (Tue, 11 Apr 2023) EllapsedTime: 52.3 seconds RetCode: 0 Status: OK PackageFile: ballgown_2.31.0.tar.gz PackageFileSize: 3.029 MiB