Package: anota Version: 1.47.0 Command: /home/biocbuild/bbs-3.17-bioc/R/bin/R CMD check --install=check:anota.install-out.txt --library=/home/biocbuild/bbs-3.17-bioc/R/site-library --timings anota_1.47.0.tar.gz StartedAt: 2023-04-12 04:40:31 -0400 (Wed, 12 Apr 2023) EndedAt: 2023-04-12 04:42:14 -0400 (Wed, 12 Apr 2023) EllapsedTime: 103.3 seconds RetCode: 0 Status: OK CheckDir: anota.Rcheck Warnings: 0