Package: alabaster Version: 0.99.0 Command: /home/biocbuild/bbs-3.17-bioc/R/bin/R CMD INSTALL alabaster StartedAt: 2023-04-12 02:01:42 -0400 (Wed, 12 Apr 2023) EndedAt: 2023-04-12 02:02:44 -0400 (Wed, 12 Apr 2023) EllapsedTime: 61.7 seconds RetCode: 0 Status: OK