Package: XDE Version: 2.45.0 Command: /home/biocbuild/bbs-3.17-bioc/R/bin/R CMD build --keep-empty-dirs --no-resave-data XDE StartedAt: 2023-04-12 04:29:25 -0400 (Wed, 12 Apr 2023) EndedAt: 2023-04-12 04:30:36 -0400 (Wed, 12 Apr 2023) EllapsedTime: 71.2 seconds RetCode: 0 Status: OK PackageFile: XDE_2.45.0.tar.gz PackageFileSize: 1.073 MiB