Package: XDE Version: 2.45.0 Command: /home/biocbuild/bbs-3.17-bioc/R/bin/R CMD check --install=check:XDE.install-out.txt --library=/home/biocbuild/bbs-3.17-bioc/R/site-library --timings XDE_2.45.0.tar.gz StartedAt: 2023-04-12 00:27:15 -0400 (Wed, 12 Apr 2023) EndedAt: 2023-04-12 00:30:51 -0400 (Wed, 12 Apr 2023) EllapsedTime: 216.8 seconds RetCode: 0 Status: WARNINGS CheckDir: XDE.Rcheck Warnings: 1