Package: XDE Version: 2.45.0 Command: /home/biocbuild/bbs-3.17-bioc/R/bin/R CMD build --keep-empty-dirs --no-resave-data XDE StartedAt: 2023-04-11 18:20:35 -0400 (Tue, 11 Apr 2023) EndedAt: 2023-04-11 18:21:43 -0400 (Tue, 11 Apr 2023) EllapsedTime: 68.5 seconds RetCode: 0 Status: OK PackageFile: XDE_2.45.0.tar.gz PackageFileSize: 1.081 MiB