Package: ViSEAGO Version: 1.13.0 Command: /home/biocbuild/bbs-3.17-bioc/R/bin/R CMD build --keep-empty-dirs --no-resave-data ViSEAGO StartedAt: 2023-04-12 04:27:56 -0400 (Wed, 12 Apr 2023) EndedAt: 2023-04-12 04:28:51 -0400 (Wed, 12 Apr 2023) EllapsedTime: 55.2 seconds RetCode: 0 Status: OK PackageFile: ViSEAGO_1.13.0.tar.gz PackageFileSize: 8.621 MiB