Package: VAExprs Version: 1.5.0 Command: /home/biocbuild/bbs-3.17-bioc/R/bin/R CMD build --keep-empty-dirs --no-resave-data VAExprs StartedAt: 2023-04-11 18:17:43 -0400 (Tue, 11 Apr 2023) EndedAt: 2023-04-11 18:19:49 -0400 (Tue, 11 Apr 2023) EllapsedTime: 125.9 seconds RetCode: 0 Status: OK PackageFile: VAExprs_1.5.0.tar.gz PackageFileSize: 1.908 MiB