Package: TissueEnrich Version: 1.19.0 Command: /home/biocbuild/bbs-3.17-bioc/R/bin/R CMD build --keep-empty-dirs --no-resave-data TissueEnrich StartedAt: 2023-04-11 18:13:39 -0400 (Tue, 11 Apr 2023) EndedAt: 2023-04-11 18:14:28 -0400 (Tue, 11 Apr 2023) EllapsedTime: 49.2 seconds RetCode: 0 Status: OK PackageFile: TissueEnrich_1.19.0.tar.gz PackageFileSize: 3.507 MiB