Package: TarSeqQC Version: 1.29.1 Command: /home/biocbuild/bbs-3.17-bioc/R/bin/R CMD check --install=check:TarSeqQC.install-out.txt --library=/home/biocbuild/bbs-3.17-bioc/R/site-library --timings TarSeqQC_1.29.1.tar.gz StartedAt: 2023-04-12 09:51:16 -0400 (Wed, 12 Apr 2023) EndedAt: 2023-04-12 09:56:11 -0400 (Wed, 12 Apr 2023) EllapsedTime: 294.9 seconds RetCode: 1 Status: ERROR CheckDir: TarSeqQC.Rcheck Warnings: NA