Package: TFARM Version: 1.21.0 Command: /home/biocbuild/bbs-3.17-bioc/R/bin/R CMD build --keep-empty-dirs --no-resave-data TFARM StartedAt: 2023-04-11 18:12:24 -0400 (Tue, 11 Apr 2023) EndedAt: 2023-04-11 18:14:29 -0400 (Tue, 11 Apr 2023) EllapsedTime: 124.9 seconds RetCode: 0 Status: OK PackageFile: TFARM_1.21.0.tar.gz PackageFileSize: 470.1 KiB