Package: SwathXtend Version: 2.21.0 Command: /home/biocbuild/bbs-3.17-bioc/R/bin/R CMD INSTALL SwathXtend StartedAt: 2023-04-12 02:01:40 -0400 (Wed, 12 Apr 2023) EndedAt: 2023-04-12 02:01:48 -0400 (Wed, 12 Apr 2023) EllapsedTime: 7.8 seconds RetCode: 0 Status: OK