Package: SwathXtend Version: 2.21.0 Command: /home/biocbuild/bbs-3.17-bioc/R/bin/R CMD build --keep-empty-dirs --no-resave-data SwathXtend StartedAt: 2023-04-12 04:20:52 -0400 (Wed, 12 Apr 2023) EndedAt: 2023-04-12 04:23:59 -0400 (Wed, 12 Apr 2023) EllapsedTime: 186.7 seconds RetCode: 0 Status: OK PackageFile: SwathXtend_2.21.0.tar.gz PackageFileSize: 346.2 MiB