Package: SwathXtend Version: 2.21.0 Command: /home/biocbuild/bbs-3.17-bioc/R/bin/R CMD build --keep-empty-dirs --no-resave-data SwathXtend StartedAt: 2023-04-11 18:10:25 -0400 (Tue, 11 Apr 2023) EndedAt: 2023-04-11 18:13:34 -0400 (Tue, 11 Apr 2023) EllapsedTime: 188.9 seconds RetCode: 0 Status: OK PackageFile: SwathXtend_2.21.0.tar.gz PackageFileSize: 346.2 MiB