Package: StarBioTrek Version: 1.25.0 Command: /home/biocbuild/bbs-3.17-bioc/R/bin/R CMD build --keep-empty-dirs --no-resave-data StarBioTrek StartedAt: 2023-04-11 18:08:23 -0400 (Tue, 11 Apr 2023) EndedAt: 2023-04-11 18:09:34 -0400 (Tue, 11 Apr 2023) EllapsedTime: 70.3 seconds RetCode: 0 Status: OK PackageFile: StarBioTrek_1.25.0.tar.gz PackageFileSize: 8.291 MiB