Package: SingleR Version: 2.1.0 Command: /home/biocbuild/bbs-3.17-bioc/R/bin/R CMD check --install=check:SingleR.install-out.txt --library=/home/biocbuild/bbs-3.17-bioc/R/site-library --timings SingleR_2.1.0.tar.gz StartedAt: 2023-04-11 23:37:47 -0400 (Tue, 11 Apr 2023) EndedAt: 2023-04-11 23:44:08 -0400 (Tue, 11 Apr 2023) EllapsedTime: 380.7 seconds RetCode: 0 Status: WARNINGS CheckDir: SingleR.Rcheck Warnings: 1