Package: STRINGdb Version: 2.11.1 Command: /home/biocbuild/bbs-3.17-bioc/R/bin/R CMD INSTALL STRINGdb StartedAt: 2023-04-11 15:10:03 -0400 (Tue, 11 Apr 2023) EndedAt: 2023-04-11 15:10:07 -0400 (Tue, 11 Apr 2023) EllapsedTime: 4.5 seconds RetCode: 0 Status: OK