Package: STRINGdb Version: 2.11.1 Command: /home/biocbuild/bbs-3.17-bioc/R/bin/R CMD check --install=check:STRINGdb.install-out.txt --library=/home/biocbuild/bbs-3.17-bioc/R/site-library --timings STRINGdb_2.11.1.tar.gz StartedAt: 2023-04-11 23:56:51 -0400 (Tue, 11 Apr 2023) EndedAt: 2023-04-12 00:10:20 -0400 (Wed, 12 Apr 2023) EllapsedTime: 808.6 seconds RetCode: 0 Status: OK CheckDir: STRINGdb.Rcheck Warnings: 0