Package: STRINGdb Version: 2.11.1 Command: /home/biocbuild/bbs-3.17-bioc/R/bin/R CMD build --keep-empty-dirs --no-resave-data STRINGdb StartedAt: 2023-04-11 18:09:00 -0400 (Tue, 11 Apr 2023) EndedAt: 2023-04-11 18:12:40 -0400 (Tue, 11 Apr 2023) EllapsedTime: 219.7 seconds RetCode: 0 Status: OK PackageFile: STRINGdb_2.11.1.tar.gz PackageFileSize: 7.813 MiB