Package: STATegRa Version: 1.35.0 Command: /home/biocbuild/bbs-3.17-bioc/R/bin/R CMD build --keep-empty-dirs --no-resave-data STATegRa StartedAt: 2023-04-11 18:08:24 -0400 (Tue, 11 Apr 2023) EndedAt: 2023-04-11 18:10:15 -0400 (Tue, 11 Apr 2023) EllapsedTime: 111.2 seconds RetCode: 0 Status: OK PackageFile: STATegRa_1.35.0.tar.gz PackageFileSize: 4.801 MiB