Package: SQUADD Version: 1.49.0 Command: /home/biocbuild/bbs-3.17-bioc/R/bin/R CMD check --install=check:SQUADD.install-out.txt --library=/home/biocbuild/bbs-3.17-bioc/R/site-library --timings SQUADD_1.49.0.tar.gz StartedAt: 2023-04-11 23:52:41 -0400 (Tue, 11 Apr 2023) EndedAt: 2023-04-11 23:52:59 -0400 (Tue, 11 Apr 2023) EllapsedTime: 18.0 seconds RetCode: 0 Status: OK CheckDir: SQUADD.Rcheck Warnings: 0