Package: SQUADD Version: 1.49.0 Command: /home/biocbuild/bbs-3.17-bioc/R/bin/R CMD build --keep-empty-dirs --no-resave-data SQUADD StartedAt: 2023-04-11 18:07:17 -0400 (Tue, 11 Apr 2023) EndedAt: 2023-04-11 18:07:24 -0400 (Tue, 11 Apr 2023) EllapsedTime: 7.0 seconds RetCode: 0 Status: OK PackageFile: SQUADD_1.49.0.tar.gz PackageFileSize: 680.8 KiB