Package: SCOPE Version: 1.11.0 Command: /home/biocbuild/bbs-3.17-bioc/R/bin/R CMD build --keep-empty-dirs --no-resave-data SCOPE StartedAt: 2023-04-11 17:54:14 -0400 (Tue, 11 Apr 2023) EndedAt: 2023-04-11 18:03:20 -0400 (Tue, 11 Apr 2023) EllapsedTime: 546.0 seconds RetCode: 0 Status: OK PackageFile: SCOPE_1.11.0.tar.gz PackageFileSize: 391.4 KiB