Package: Rsubread Version: 2.13.5 Command: /home/biocbuild/bbs-3.17-bioc/R/bin/R CMD build --keep-empty-dirs --no-resave-data Rsubread StartedAt: 2023-04-11 17:47:50 -0400 (Tue, 11 Apr 2023) EndedAt: 2023-04-11 17:56:30 -0400 (Tue, 11 Apr 2023) EllapsedTime: 520.4 seconds RetCode: 0 Status: OK PackageFile: Rsubread_2.13.5.tar.gz PackageFileSize: 12.82 MiB