Package: RolDE Version: 1.3.0 Command: /home/biocbuild/bbs-3.17-bioc/R/bin/R CMD build --keep-empty-dirs --no-resave-data RolDE StartedAt: 2023-04-11 17:45:51 -0400 (Tue, 11 Apr 2023) EndedAt: 2023-04-11 17:46:19 -0400 (Tue, 11 Apr 2023) EllapsedTime: 27.6 seconds RetCode: 0 Status: OK PackageFile: RolDE_1.3.0.tar.gz PackageFileSize: 1.243 MiB