Package: RnaSeqSampleSize Version: 2.9.0 Command: /home/biocbuild/bbs-3.17-bioc/R/bin/R CMD build --keep-empty-dirs --no-resave-data RnaSeqSampleSize StartedAt: 2023-04-11 17:45:40 -0400 (Tue, 11 Apr 2023) EndedAt: 2023-04-11 17:47:37 -0400 (Tue, 11 Apr 2023) EllapsedTime: 116.5 seconds RetCode: 0 Status: OK PackageFile: RnaSeqSampleSize_2.9.0.tar.gz PackageFileSize: 235.3 KiB