Package: Rbwa Version: 1.3.2 Command: /home/biocbuild/bbs-3.17-bioc/R/bin/R CMD build --keep-empty-dirs --no-resave-data Rbwa StartedAt: 2023-04-12 03:52:39 -0400 (Wed, 12 Apr 2023) EndedAt: 2023-04-12 03:52:59 -0400 (Wed, 12 Apr 2023) EllapsedTime: 20.1 seconds RetCode: 0 Status: OK PackageFile: Rbwa_1.3.2.tar.gz PackageFileSize: 639.1 KiB