git_url: https://git.bioconductor.org/packages/Rarr git_branch: devel git_last_commit: cc7d1b8 git_last_commit_date: 2023-04-05 09:41:05 -0400 (Wed, 05 Apr 2023) Package: Rarr Version: 0.99.9 Maintainer: Mike Smith MaintainerEmail: grimbough at gmail.com