Package: RUVSeq Version: 1.33.1 Command: /home/biocbuild/bbs-3.17-bioc/R/bin/R CMD build --keep-empty-dirs --no-resave-data RUVSeq StartedAt: 2023-04-12 04:01:52 -0400 (Wed, 12 Apr 2023) EndedAt: 2023-04-12 04:03:24 -0400 (Wed, 12 Apr 2023) EllapsedTime: 92.0 seconds RetCode: 0 Status: OK PackageFile: RUVSeq_1.33.1.tar.gz PackageFileSize: 451.3 KiB