Package: RLassoCox Version: 1.7.0 Command: /home/biocbuild/bbs-3.17-bioc/R/bin/R CMD check --install=check:RLassoCox.install-out.txt --library=/home/biocbuild/bbs-3.17-bioc/R/site-library --timings RLassoCox_1.7.0.tar.gz StartedAt: 2023-04-12 08:53:15 -0400 (Wed, 12 Apr 2023) EndedAt: 2023-04-12 08:59:34 -0400 (Wed, 12 Apr 2023) EllapsedTime: 378.9 seconds RetCode: 0 Status: OK CheckDir: RLassoCox.Rcheck Warnings: 0