Package: RBioFormats Version: 0.99.11 Command: /home/biocbuild/bbs-3.17-bioc/R/bin/R CMD INSTALL RBioFormats StartedAt: 2023-04-12 01:44:18 -0400 (Wed, 12 Apr 2023) EndedAt: 2023-04-12 01:44:34 -0400 (Wed, 12 Apr 2023) EllapsedTime: 15.5 seconds RetCode: 0 Status: OK