Package: Pigengene Version: 1.25.16 Command: /home/biocbuild/bbs-3.17-bioc/R/bin/R CMD build --keep-empty-dirs --no-resave-data Pigengene StartedAt: 2023-04-11 17:29:31 -0400 (Tue, 11 Apr 2023) EndedAt: 2023-04-11 17:33:20 -0400 (Tue, 11 Apr 2023) EllapsedTime: 229.3 seconds RetCode: 0 Status: OK PackageFile: Pigengene_1.25.16.tar.gz PackageFileSize: 2.696 MiB