Package: PSMatch Version: 1.3.3 Command: /home/biocbuild/bbs-3.17-bioc/R/bin/R CMD check --install=check:PSMatch.install-out.txt --library=/home/biocbuild/bbs-3.17-bioc/R/site-library --timings PSMatch_1.3.3.tar.gz StartedAt: 2023-04-11 22:41:43 -0400 (Tue, 11 Apr 2023) EndedAt: 2023-04-11 22:46:38 -0400 (Tue, 11 Apr 2023) EllapsedTime: 294.2 seconds RetCode: 1 Status: ERROR CheckDir: PSMatch.Rcheck Warnings: NA