git_url: https://git.bioconductor.org/packages/PSMatch git_branch: devel git_last_commit: e153809 git_last_commit_date: 2023-04-08 08:01:13 -0400 (Sat, 08 Apr 2023) Package: PSMatch Version: 1.3.3 Maintainer: Laurent Gatto MaintainerEmail: laurent.gatto at uclouvain.be