Package: PPInfer Version: 1.25.1 Command: /home/biocbuild/bbs-3.17-bioc/R/bin/R CMD check --install=check:PPInfer.install-out.txt --library=/home/biocbuild/bbs-3.17-bioc/R/site-library --timings PPInfer_1.25.1.tar.gz StartedAt: 2023-04-12 08:26:52 -0400 (Wed, 12 Apr 2023) EndedAt: 2023-04-12 08:35:00 -0400 (Wed, 12 Apr 2023) EllapsedTime: 487.3 seconds RetCode: 0 Status: OK CheckDir: PPInfer.Rcheck Warnings: 0