Package: PDATK Version: 1.7.0 Command: /home/biocbuild/bbs-3.17-bioc/R/bin/R CMD INSTALL PDATK StartedAt: 2023-04-11 15:41:01 -0400 (Tue, 11 Apr 2023) EndedAt: 2023-04-11 15:41:40 -0400 (Tue, 11 Apr 2023) EllapsedTime: 38.4 seconds RetCode: 0 Status: OK