Package: PAST Version: 1.15.0 Command: /home/biocbuild/bbs-3.17-bioc/R/bin/R CMD check --install=check:PAST.install-out.txt --library=/home/biocbuild/bbs-3.17-bioc/R/site-library --timings PAST_1.15.0.tar.gz StartedAt: 2023-04-11 22:17:04 -0400 (Tue, 11 Apr 2023) EndedAt: 2023-04-11 22:35:10 -0400 (Tue, 11 Apr 2023) EllapsedTime: 1085.8 seconds RetCode: 0 Status: WARNINGS CheckDir: PAST.Rcheck Warnings: 2