Package: OrganismDbi Version: 1.41.0 Command: /home/biocbuild/bbs-3.17-bioc/R/bin/R CMD check --install=check:OrganismDbi.install-out.txt --library=/home/biocbuild/bbs-3.17-bioc/R/site-library --timings OrganismDbi_1.41.0.tar.gz StartedAt: 2023-04-12 08:03:37 -0400 (Wed, 12 Apr 2023) EndedAt: 2023-04-12 08:22:59 -0400 (Wed, 12 Apr 2023) EllapsedTime: 1161.6 seconds RetCode: 0 Status: WARNINGS CheckDir: OrganismDbi.Rcheck Warnings: 1