Package: OVESEG Version: 1.15.0 Command: /home/biocbuild/bbs-3.17-bioc/R/bin/R CMD check --install=check:OVESEG.install-out.txt --library=/home/biocbuild/bbs-3.17-bioc/R/site-library --timings OVESEG_1.15.0.tar.gz StartedAt: 2023-04-11 22:10:46 -0400 (Tue, 11 Apr 2023) EndedAt: 2023-04-11 22:25:18 -0400 (Tue, 11 Apr 2023) EllapsedTime: 872.0 seconds RetCode: 0 Status: OK CheckDir: OVESEG.Rcheck Warnings: 0