Package: NPARC Version: 1.11.1 Command: /home/biocbuild/bbs-3.17-bioc/R/bin/R CMD INSTALL NPARC StartedAt: 2023-04-11 15:10:24 -0400 (Tue, 11 Apr 2023) EndedAt: 2023-04-11 15:10:28 -0400 (Tue, 11 Apr 2023) EllapsedTime: 4.7 seconds RetCode: 0 Status: OK