Package: MouseFM Version: 1.9.0 Command: /home/biocbuild/bbs-3.17-bioc/R/bin/R CMD build --keep-empty-dirs --no-resave-data MouseFM StartedAt: 2023-04-11 17:07:04 -0400 (Tue, 11 Apr 2023) EndedAt: 2023-04-11 17:08:21 -0400 (Tue, 11 Apr 2023) EllapsedTime: 77.2 seconds RetCode: 0 Status: OK PackageFile: MouseFM_1.9.0.tar.gz PackageFileSize: 747.8 KiB