Package: MicrobiomeProfiler Version: 1.5.0 Command: /home/biocbuild/bbs-3.17-bioc/R/bin/R CMD INSTALL MicrobiomeProfiler StartedAt: 2023-04-11 15:31:50 -0400 (Tue, 11 Apr 2023) EndedAt: 2023-04-11 15:32:15 -0400 (Tue, 11 Apr 2023) EllapsedTime: 24.7 seconds RetCode: 0 Status: OK