Package: MSstats Version: 4.7.2 Command: /home/biocbuild/bbs-3.17-bioc/R/bin/R CMD check --install=check:MSstats.install-out.txt --library=/home/biocbuild/bbs-3.17-bioc/R/site-library --timings MSstats_4.7.2.tar.gz StartedAt: 2023-04-11 21:50:19 -0400 (Tue, 11 Apr 2023) EndedAt: 2023-04-11 21:52:02 -0400 (Tue, 11 Apr 2023) EllapsedTime: 102.8 seconds RetCode: 0 Status: OK CheckDir: MSstats.Rcheck Warnings: 0