Package: MPFE Version: 1.35.0 Command: /home/biocbuild/bbs-3.17-bioc/R/bin/R CMD build --keep-empty-dirs --no-resave-data MPFE StartedAt: 2023-04-12 03:22:18 -0400 (Wed, 12 Apr 2023) EndedAt: 2023-04-12 03:22:22 -0400 (Wed, 12 Apr 2023) EllapsedTime: 4.0 seconds RetCode: 0 Status: OK PackageFile: MPFE_1.35.0.tar.gz PackageFileSize: 99.49 KiB