Package: MCbiclust Version: 1.23.0 Command: /home/biocbuild/bbs-3.17-bioc/R/bin/R CMD build --keep-empty-dirs --no-resave-data MCbiclust StartedAt: 2023-04-12 03:13:37 -0400 (Wed, 12 Apr 2023) EndedAt: 2023-04-12 03:14:49 -0400 (Wed, 12 Apr 2023) EllapsedTime: 72.3 seconds RetCode: 0 Status: OK PackageFile: MCbiclust_1.23.0.tar.gz PackageFileSize: 6.194 MiB